BEGIN:VCALENDAR
VERSION:2.0
BEGIN:VEVENT
URL:https://www.dailyinfo.co.uk/events/293252/trumpet-and-organ-duo-concert-by-crispian-steele-perkins-and-hilary-davan-wetton
DTSTART;VALUE=DATE:20260426
DESCRIPTION:Trumpet and Organ duo concert by Crispian Steele-Perkins and Hilary Davan Wetton\n\n\nProgramme includes works by Charpentier, Handel, Bach, Stanley, Haydn, Gershwin, Goodall. Plus tea & cake. 3.30pm £10 on the door (concessions available)
SUMMARY;LANGUAGE=en-gb:Trumpet and Organ duo concert by Crispian Steele-Perkins and Hilary Davan Wetton
LOCATION:St Andrew's Church, Headington, St Andrew's Road, Old Headington, OX3 9DL
END:VEVENT
END:VCALENDAR
