BEGIN:VCALENDAR
VERSION:2.0
BEGIN:VEVENT
URL:https://www.dailyinfo.co.uk/film/22360/colours-of-time?event=293593
DTSTART;VALUE=DATE:20260426
DESCRIPTION:Colours of Time [15]\n\n\nFour cousins who inherit a house in rural Normandy and retrace the steps of their ancestors in 19th-century Paris. French with subt. 1.45pm
SUMMARY;LANGUAGE=en-gb:Colours of Time [15]
LOCATION:Phoenix Picturehouse, 57 Walton Street, Oxford OX2 6AE
END:VEVENT
END:VCALENDAR
