BEGIN:VCALENDAR
VERSION:2.0
BEGIN:VEVENT
URL:https://www.dailyinfo.co.uk/film/1657/strictly-ballroom?event=293601
DTSTART;VALUE=DATE:20260426
DESCRIPTION:Baz Season: Strictly Ballroom [PG]\n\n\nThe whole ballroom and nothing but the ballroom. 4.45pm
SUMMARY;LANGUAGE=en-gb:Baz Season: Strictly Ballroom [PG]
LOCATION:Phoenix Picturehouse, 57 Walton Street, Oxford OX2 6AE
END:VEVENT
END:VCALENDAR
