BEGIN:VCALENDAR
VERSION:2.0
BEGIN:VEVENT
URL:https://www.dailyinfo.co.uk/events/293645/jazz-singers-trio
DTSTART;VALUE=DATE:20260426
DESCRIPTION:Jazz Singers Trio\n\n\nA relaxed mix of familiar songs from the American Songbook — a touch of Sinatra & a hint of Ella! 4.30pm Free
SUMMARY;LANGUAGE=en-gb:Jazz Singers Trio
LOCATION:The Black Boy, 91 Old High St, Headington, Oxford OX3 9HT
END:VEVENT
END:VCALENDAR
