BEGIN:VCALENDAR
VERSION:2.0
BEGIN:VEVENT
URL:https://www.dailyinfo.co.uk/film/22313/they-will-kill-you?event=293666
DTSTART;VALUE=DATE:20260426
DESCRIPTION:They Will Kill You [15]\n\n\nA woman takes a job as a housekeeper in a NYC high-rise, unaware of the building's history of disappearances 12.30am (late Sat night/early Sun morning)
SUMMARY;LANGUAGE=en-gb:They Will Kill You [15]
LOCATION:Vue Cinema, Grenoble Road (nr Kassam Stadium), Oxford OX4 4XP
END:VEVENT
END:VCALENDAR
