BEGIN:VCALENDAR
VERSION:2.0
BEGIN:VEVENT
URL:https://www.dailyinfo.co.uk/film/22300/the-land-of-sometimes?event=293668
DTSTART;VALUE=DATE:20260426
DESCRIPTION:The Land of Sometimes [U]\n\n\nMagical, musical adventure from the producers of Toy Story, and How to Train Your Dragon, starring Ewan McGregor and Helena Bonham Carter 10.00am
SUMMARY;LANGUAGE=en-gb:The Land of Sometimes [U]
LOCATION:Vue Cinema, Grenoble Road (nr Kassam Stadium), Oxford OX4 4XP
END:VEVENT
END:VCALENDAR
