BEGIN:VCALENDAR
VERSION:2.0
BEGIN:VEVENT
URL:https://www.dailyinfo.co.uk/film/45/fight-club?event=293669
DTSTART;VALUE=DATE:20260426
DESCRIPTION:Fight Club [18]\n\n\nClub with a couple of strict rules. 6.05pm
SUMMARY;LANGUAGE=en-gb:Fight Club [18]
LOCATION:Vue Cinema, Grenoble Road (nr Kassam Stadium), Oxford OX4 4XP
END:VEVENT
END:VCALENDAR
