BEGIN:VCALENDAR
VERSION:2.0
BEGIN:VEVENT
URL:https://www.dailyinfo.co.uk/events/293723/cranc-hot-wife-junk-whale
DTSTART;VALUE=DATE:20260426
DESCRIPTION:Cranc., Hot Wife, Junk Whale\n\n\nPunk, rock & indie 6.00-9.00pm £6-£9
SUMMARY;LANGUAGE=en-gb:Cranc., Hot Wife, Junk Whale
LOCATION:The Library Pub, 182 Cowley Road, Oxford OX4 1UE
END:VEVENT
END:VCALENDAR
