BEGIN:VCALENDAR
VERSION:2.0
BEGIN:VEVENT
URL:https://www.dailyinfo.co.uk/events/290737/forest-tots
DTSTART;VALUE=DATE:20260427
DESCRIPTION:Forest Tots\n\n\nLet your little explorers (ages 2-6) experience the magic of the outdoors! (Term time only) 10am - 11.30am £8 per child
SUMMARY;LANGUAGE=en-gb:Forest Tots
LOCATION:Hill End Outdoor Education Centre, Eynsham Road, Farmoor, Oxford OX2 9NJ
END:VEVENT
END:VCALENDAR
