BEGIN:VCALENDAR
VERSION:2.0
BEGIN:VEVENT
URL:https://www.dailyinfo.co.uk/events/291632/sister-ray-davies-the-still-cans
DTSTART;VALUE=DATE:20260427
DESCRIPTION:Sister Ray Davies, The Still Cans\n\n\nNew duo formed by Adam Morrow and Jamie Sego promoting debut album 'Holy Island' 7.30pm £12
SUMMARY;LANGUAGE=en-gb:Sister Ray Davies, The Still Cans
LOCATION:The Library Pub, 182 Cowley Road, Oxford OX4 1UE
END:VEVENT
END:VCALENDAR
