BEGIN:VCALENDAR
VERSION:2.0
BEGIN:VEVENT
URL:https://www.dailyinfo.co.uk/film/18328/after-hours?event=293602
DTSTART;VALUE=DATE:20260427
DESCRIPTION:After Hours [15]\n\n\n4K re-release: Scorsese's nightmarish odyssey through the streets of 80s New York. 8.45pm
SUMMARY;LANGUAGE=en-gb:After Hours [15]
LOCATION:Phoenix Picturehouse, 57 Walton Street, Oxford OX2 6AE
END:VEVENT
END:VCALENDAR
