BEGIN:VCALENDAR
VERSION:2.0
BEGIN:VEVENT
URL:https://www.dailyinfo.co.uk/film/22363/rbo-live-the-magic-flute?event=293603
DTSTART;VALUE=DATE:20260427
DESCRIPTION:RBO: The Magic Flute [12A]\n\n\nMozart’s fantastical opera glitters in David McVicar’s enchanting production. 12.00pm
SUMMARY;LANGUAGE=en-gb:RBO: The Magic Flute [12A]
LOCATION:Phoenix Picturehouse, 57 Walton Street, Oxford OX2 6AE
END:VEVENT
END:VCALENDAR
