BEGIN:VCALENDAR
VERSION:2.0
BEGIN:VEVENT
URL:https://www.dailyinfo.co.uk/events/275790/quiz-night
DTSTART;VALUE=DATE:20260428
DESCRIPTION:Quiz Night\n\n\nWeekly pub quiz with prizes including bar tabs, mystery prizes, free food and beer 8.00pm £1
SUMMARY;LANGUAGE=en-gb:Quiz Night
LOCATION:The Cape of Good Hope, 1 Iffley Road, Oxford OX4 1EA
END:VEVENT
END:VCALENDAR
