BEGIN:VCALENDAR
VERSION:2.0
BEGIN:VEVENT
URL:https://www.dailyinfo.co.uk/events/280606/morning-prayer-said
DTSTART;VALUE=DATE:20260428
DESCRIPTION:Morning Prayer (said)\n\n\nA short prayer service (BCP or informal) in the Lady Chapel. Baby change & accessible facilities 8:30-9am (BCP) Free
SUMMARY;LANGUAGE=en-gb:Morning Prayer (said)
LOCATION:All Saints' Church (Headington), Lime Walk, Headington, Oxford OX3 7AL
END:VEVENT
END:VCALENDAR
