BEGIN:VCALENDAR
VERSION:2.0
BEGIN:VEVENT
URL:https://www.dailyinfo.co.uk/events/286522/pilates-for-all
DTSTART;VALUE=DATE:20260428
DESCRIPTION:Pilates for All\n\n\nIndividually tailored, mixed ability, mat based Pilates class led by a qualified physiotherapist. 11.45am and 12.45pm 8 week course – £96
SUMMARY;LANGUAGE=en-gb:Pilates for All
LOCATION:St Andrew's Church (Summertown), Linton Road, Oxford OX2 6UG
END:VEVENT
END:VCALENDAR
