BEGIN:VCALENDAR
VERSION:2.0
BEGIN:VEVENT
URL:https://www.dailyinfo.co.uk/events/287846/schwarzman-centre-conversations-with-samira-ahmed
DTSTART;VALUE=DATE:20260428
DESCRIPTION:Schwarzman Centre Conversations with Samira Ahmed\n\n\nJournalist and broadcaster Samira Ahmed hosts a compelling series of conversations exploring how arts and culture are responding to urgent global challenges. 7.30pm TBC
SUMMARY;LANGUAGE=en-gb:Schwarzman Centre Conversations with Samira Ahmed
LOCATION:Schwarzman Centre for the Humanities, Radcliffe Observatory Quarter, Woodstock Road, Oxford OX2 6GG
END:VEVENT
END:VCALENDAR
