BEGIN:VCALENDAR
VERSION:2.0
BEGIN:VEVENT
URL:https://www.dailyinfo.co.uk/events/288281/yoga-mixed-ability
DTSTART;VALUE=DATE:20260428
DESCRIPTION:Yoga (Mixed Ability)\n\n\nFriendly class for all abilities. Stretching and strengthening exercises, breath-work, relaxation. 6 - 7.30pm £17 - £12
SUMMARY;LANGUAGE=en-gb:Yoga (Mixed Ability)
LOCATION:Asian Cultural Centre, Manzil Way, Oxford OX4 1GH
END:VEVENT
END:VCALENDAR
