BEGIN:VCALENDAR
VERSION:2.0
BEGIN:VEVENT
URL:https://www.dailyinfo.co.uk/events/289472/party-season
DTSTART;VALUE=DATE:20260428
DESCRIPTION:Party Season\n\n\nThree parties. One weekend. The invitations have been sent and there’s no going back. From the multi-award-winning creators of Education, Education, Education, Party Season is a razor-sharp new comedy about privilege, party rings and the pressures of being a parent. RSVP! 7:30 pm £14-22
SUMMARY;LANGUAGE=en-gb:Party Season
LOCATION:North Wall Arts Centre, South Parade, Oxford OX2 7NN
END:VEVENT
END:VCALENDAR
