BEGIN:VCALENDAR
VERSION:2.0
BEGIN:VEVENT
URL:https://www.dailyinfo.co.uk/events/290039/baby-and-toddler-playgroup
DTSTART;VALUE=DATE:20260428
DESCRIPTION:Baby and toddler playgroup\n\n\ncarers and their under 4 year olds are welcome to join for fun play, warm conversations and snacks 10am-12 pm Free
SUMMARY;LANGUAGE=en-gb:Baby and toddler playgroup
LOCATION:Friends Meeting House (Quaker Centre), 43 St Giles, Oxford OX1 3LW
END:VEVENT
END:VCALENDAR
