BEGIN:VCALENDAR
VERSION:2.0
BEGIN:VEVENT
URL:https://www.dailyinfo.co.uk/events/290050/smart-start
DTSTART;VALUE=DATE:20260428
DESCRIPTION:Smart Start\n\n\nA stay, play and learn session for all children under 5 and their parents, carers or grandparents. 9:30 - 11:30 Suggested donation £3.00
SUMMARY;LANGUAGE=en-gb:Smart Start
LOCATION:The Maple Tree, Littleworth Road, Wheatley OX33 1PH
END:VEVENT
END:VCALENDAR
