BEGIN:VCALENDAR
VERSION:2.0
BEGIN:VEVENT
URL:https://www.dailyinfo.co.uk/events/291157/haircut-100
DTSTART;VALUE=DATE:20260428
DESCRIPTION:Haircut 100\n\n\n80s hitmakers on UK tour 7.00pm £38.55
SUMMARY;LANGUAGE=en-gb:Haircut 100
LOCATION:O2 Academy Oxford, 190 Cowley Road, Oxford OX4 1UE
END:VEVENT
END:VCALENDAR
