BEGIN:VCALENDAR
VERSION:2.0
BEGIN:VEVENT
URL:https://www.dailyinfo.co.uk/events/290051/maple-babies
DTSTART;VALUE=DATE:20260429
DESCRIPTION:Maple Babies\n\n\nA stay, play and learn session for babies and toddlers under 2 years and their parents and carers. 9:30 - 12:00 Suggested donation £3.00
SUMMARY;LANGUAGE=en-gb:Maple Babies
LOCATION:The Maple Tree, Littleworth Road, Wheatley OX33 1PH
END:VEVENT
END:VCALENDAR
