BEGIN:VCALENDAR
VERSION:2.0
BEGIN:VEVENT
URL:https://www.dailyinfo.co.uk/events/290556/welcome-the-may
DTSTART;VALUE=DATE:20260429
DESCRIPTION:Welcome The May!\n\n\nCostume band evokes Oxford's May Day celebrations at the time of the Civil War & Restoration 7-9pm £15
SUMMARY;LANGUAGE=en-gb:Welcome The May!
LOCATION:Iffley Church Hall, 101 Church Way, Iffley OX4 4EG
END:VEVENT
END:VCALENDAR
