BEGIN:VCALENDAR
VERSION:2.0
BEGIN:VEVENT
URL:https://www.dailyinfo.co.uk/events/291903/women-s-creative-circle-oxford
DTSTART;VALUE=DATE:20260429
DESCRIPTION:Women’s Creative Circle – Oxford\n\n\nWomen’s creative circle. A monthly space to explore creativity without pressure. No experience needed 6:45pm-8:45pm Sliding scale £5-£15
SUMMARY;LANGUAGE=en-gb:Women’s Creative Circle – Oxford
LOCATION:East Oxford Community Centre, 44b Princes Street (corner of Cowley Rd), Oxford OX4 1HU
END:VEVENT
END:VCALENDAR
