BEGIN:VCALENDAR
VERSION:2.0
BEGIN:VEVENT
URL:https://www.dailyinfo.co.uk/film/22362/rose-of-nevada?event=293590
DTSTART;VALUE=DATE:20260429
DESCRIPTION:Watch With Baby: Rose of Nevada [15]\n\n\nA mysterious boat returns to a village 30 years after vanishing. 11.30am
SUMMARY;LANGUAGE=en-gb:Watch With Baby: Rose of Nevada [15]
LOCATION:Phoenix Picturehouse, 57 Walton Street, Oxford OX2 6AE
END:VEVENT
END:VCALENDAR
