BEGIN:VCALENDAR
VERSION:2.0
BEGIN:VEVENT
URL:https://www.dailyinfo.co.uk/film/22365/glenrothan?event=293592
DTSTART;VALUE=DATE:20260429
DESCRIPTION:Glenrothan [12A]\n\n\nFollowing a violent exchange with their father at their mothers' funeral, two brothers reunite in the land of their birth after forty years apart. 3.00pm
SUMMARY;LANGUAGE=en-gb:Glenrothan [12A]
LOCATION:Phoenix Picturehouse, 57 Walton Street, Oxford OX2 6AE
END:VEVENT
END:VCALENDAR
