BEGIN:VCALENDAR
VERSION:2.0
BEGIN:VEVENT
URL:https://www.dailyinfo.co.uk/film/22388/power-to-the-people-john-and-yoko-live-in-ny?event=293608
DTSTART;VALUE=DATE:20260429
DESCRIPTION:Power to the People: John & Yoko Live in NY [12A]\n\n\nNewly restored live shows by John Lennon & Yoko Ono at Madison Square Garden in 1972 highlight the couple as political radicals in New York City. 6.15pm
SUMMARY;LANGUAGE=en-gb:Power to the People: John & Yoko Live in NY [12A]
LOCATION:Phoenix Picturehouse, 57 Walton Street, Oxford OX2 6AE
END:VEVENT
END:VCALENDAR
