BEGIN:VCALENDAR
VERSION:2.0
BEGIN:VEVENT
URL:https://www.dailyinfo.co.uk/events/289074/open-mic
DTSTART;VALUE=DATE:20260430
DESCRIPTION:Open Mic\n\n\nCentral open mic with top in house PA guitar and Keyboard hosted by Lee Bo 7.30pm Free
SUMMARY;LANGUAGE=en-gb:Open Mic
LOCATION:St Aldate's Tavern, 108 St Aldate's, Oxford OX1 1BU
END:VEVENT
END:VCALENDAR
