BEGIN:VCALENDAR
VERSION:2.0
BEGIN:VEVENT
URL:https://www.dailyinfo.co.uk/events/289166/yoga-mixed-ability
DTSTART;VALUE=DATE:20260430
DESCRIPTION:Yoga mixed ability\n\n\nThis is a friendly class for all abilities, including postures to stretch and strengthen your body, 5.45 - 7.15pm £17 - £12
SUMMARY;LANGUAGE=en-gb:Yoga mixed ability
LOCATION:Asian Cultural Centre, Manzil Way, Oxford OX4 1GH
END:VEVENT
END:VCALENDAR
