BEGIN:VCALENDAR
VERSION:2.0
BEGIN:VEVENT
URL:https://www.dailyinfo.co.uk/events/289576/josh-baulf-lovely-stuff
DTSTART;VALUE=DATE:20260430
DESCRIPTION:Josh Baulf: Lovely Stuff\n\n\nStand-up comedy Doors open 6.45pm, last entry 7.15pm £16.50
SUMMARY;LANGUAGE=en-gb:Josh Baulf: Lovely Stuff
LOCATION:The Glee Club, The Bullingdon, 162 Cowley Rd, Oxford, OX4 1UE OX4 1UE
END:VEVENT
END:VCALENDAR
