BEGIN:VCALENDAR
VERSION:2.0
BEGIN:VEVENT
URL:https://www.dailyinfo.co.uk/events/293099/lisping-in-numbers-poems-that-count-professor-of-poetry-talk-by-a-e-stallings
DTSTART;VALUE=DATE:20260430
DESCRIPTION:Lisping in Numbers: Poems that Count (Professor of Poetry Talk by A.E Stallings)\n\n\nProfessor of Poetry talk by A.E. Stallings. All welcome! 5.30pm FREE
SUMMARY;LANGUAGE=en-gb:Lisping in Numbers: Poems that Count (Professor of Poetry Talk by A.E Stallings)
LOCATION:Schwarzman Centre for the Humanities, Radcliffe Observatory Quarter, Woodstock Road, Oxford OX2 6GG
END:VEVENT
END:VCALENDAR
