BEGIN:VCALENDAR
VERSION:2.0
BEGIN:VEVENT
URL:https://www.dailyinfo.co.uk/events/293299/climate-reframe-ending-ecocide-and-building-global-solidarity
DTSTART;VALUE=DATE:20260430
DESCRIPTION:Climate Reframe: Ending Ecocide and Building Global Solidarity\n\n\nClimate Reframe warmly invites you to join us in conversation, creativity, and connection in Oxford 6.00-10.00pm  Free
SUMMARY;LANGUAGE=en-gb:Climate Reframe: Ending Ecocide and Building Global Solidarity
LOCATION:The Nest, 33-35 Little Clarendon St, Oxford OX1 2HU
END:VEVENT
END:VCALENDAR
