BEGIN:VCALENDAR
VERSION:2.0
BEGIN:VEVENT
URL:https://www.dailyinfo.co.uk/events/293572/organ-recital-stefan-mohr
DTSTART;VALUE=DATE:20260430
DESCRIPTION:Organ Recital - Stefan Mohr\n\n\nOrgan recital given by Stefan Mohr on the Dobson organ 1.15pm Free
SUMMARY;LANGUAGE=en-gb:Organ Recital - Stefan Mohr
LOCATION:Merton College Chapel, Merton Street, Oxford OX1 4JD
END:VEVENT
END:VCALENDAR
