BEGIN:VCALENDAR
VERSION:2.0
BEGIN:VEVENT
URL:https://www.dailyinfo.co.uk/film/16140/the-snail-and-the-whale?event=293605
DTSTART;VALUE=DATE:20260430
DESCRIPTION:Toddler Time: The Snail and the Whale [U]\n\n\nExclusively for preschool children and their parents/carers: meet the snail who travelled the world on the tail of a whale. 11.30am
SUMMARY;LANGUAGE=en-gb:Toddler Time: The Snail and the Whale [U]
LOCATION:Phoenix Picturehouse, 57 Walton Street, Oxford OX2 6AE
END:VEVENT
END:VCALENDAR
