BEGIN:VCALENDAR
VERSION:2.0
BEGIN:VEVENT
URL:https://www.dailyinfo.co.uk/film/10230/playtime?event=293606
DTSTART;VALUE=DATE:20260430
DESCRIPTION:Playtime [U]\n\n\nWitty visual send-up of modern living as seen from the 60s. French with subt. 5.30pm
SUMMARY;LANGUAGE=en-gb:Playtime [U]
LOCATION:Phoenix Picturehouse, 57 Walton Street, Oxford OX2 6AE
END:VEVENT
END:VCALENDAR
