BEGIN:VCALENDAR
VERSION:2.0
BEGIN:VEVENT
URL:https://www.dailyinfo.co.uk/film/45/fight-club?event=293607
DTSTART;VALUE=DATE:20260430
DESCRIPTION:Fight Club [18]\n\n\n4K re-release: Club with a couple of strict rules. 8.10pm
SUMMARY;LANGUAGE=en-gb:Fight Club [18]
LOCATION:Phoenix Picturehouse, 57 Walton Street, Oxford OX2 6AE
END:VEVENT
END:VCALENDAR
