BEGIN:VCALENDAR
VERSION:2.0
BEGIN:VEVENT
URL:https://www.dailyinfo.co.uk/events/293777/fire-station-swing
DTSTART;VALUE=DATE:20260430
DESCRIPTION:Fire Station Swing\n\n\nLearn to Lindy Hop - a super fun partner dance to swing music!  No need to bring a partner. 1915 to 2220 £8/£10 (1 class/2 classes)
SUMMARY;LANGUAGE=en-gb:Fire Station Swing
LOCATION:The Old Fire Station, 40 George Street, Oxford OX1 2AQ
END:VEVENT
END:VCALENDAR
