BEGIN:VCALENDAR
VERSION:2.0
BEGIN:VEVENT
URL:https://www.dailyinfo.co.uk/events/292417/dynamic-vinyasa-yoga-all-levels
DTSTART;VALUE=DATE:20260501
DESCRIPTION:Dynamic Vinyasa Yoga (All Levels)\n\n\nVinyasa yoga in Botley: flowing movement, breathwork & meditation. All levels welcome. 6pm - 7pm £10
SUMMARY;LANGUAGE=en-gb:Dynamic Vinyasa Yoga (All Levels)
LOCATION:St Peter & St Paul Church Hall, 81 West Way, Botley, Oxford OX2 9JY
END:VEVENT
END:VCALENDAR
