BEGIN:VCALENDAR
VERSION:2.0
BEGIN:VEVENT
URL:https://www.dailyinfo.co.uk/events/291158/rnb-vs-garage
DTSTART;VALUE=DATE:20260502
DESCRIPTION:RnB vs Garage\n\n\nPlayground for grown-ups who thrive on epic parties 5.30-10.00pm £18.95
SUMMARY;LANGUAGE=en-gb:RnB vs Garage
LOCATION:O2 Academy Oxford, 190 Cowley Road, Oxford OX4 1UE
END:VEVENT
END:VCALENDAR
