BEGIN:VCALENDAR
VERSION:2.0
BEGIN:VEVENT
URL:https://www.dailyinfo.co.uk/events/291678/theres-gold-in-them-thar-stars
DTSTART;VALUE=DATE:20260502
DESCRIPTION:"There's Gold in them thar Stars"\n\n\nWith Professor Nial Tanvir, FRS (University of Leicester) 5.15 - 6.15pm £100/£85 for Full Festival Pass; £25/£20 for evening concerts; £15/£12 for daytime concerts; £3/£2 for lectures
SUMMARY;LANGUAGE=en-gb:"There's Gold in them thar Stars"
LOCATION:St John's Garden Quadrangle Auditorium, St John's College, St Giles OX1 3JP
END:VEVENT
END:VCALENDAR
