BEGIN:VCALENDAR
VERSION:2.0
BEGIN:VEVENT
URL:https://www.dailyinfo.co.uk/events/291679/concert-1-works-by-brown-and-elgar
DTSTART;VALUE=DATE:20260502
DESCRIPTION:Concert 1: Works by Brown and Elgar\n\n\nJames Francis Brown wrote his trio in 1996 when he was 27; it is full of the optimism and energy of youth. In contrast, the Elgar is a piece from his twilight years, redolent with the trauma and sorrow of the Great War. 2 - 3pm £100/£85 for Full Festival Pass; £25/£20 for evening concerts; £15/£12 for daytime concerts; £3/£2 for lectures
SUMMARY;LANGUAGE=en-gb:Concert 1: Works by Brown and Elgar
LOCATION:St John's Garden Quadrangle Auditorium, St John's College, St Giles OX1 3JP
END:VEVENT
END:VCALENDAR
