BEGIN:VCALENDAR
VERSION:2.0
BEGIN:VEVENT
URL:https://www.dailyinfo.co.uk/events/291680/concert-2-film-music-in-the-flow-of-time
DTSTART;VALUE=DATE:20260502
DESCRIPTION:Concert 2: Film Music in the Flow of Time\n\n\nOxford May Music goes to the movies! In addition to classics from Saint-Saens, Shostakovich and Bernstein, our Musical Director plays works from Dario Marianelli, who wrote a violin concerto for him; Jack recorded the movie sound track for several of Dario’s works. 7.30 - 9.30pm £100/£85 for Full Festival Pass; £25/£20 for evening concerts; £15/£12 for daytime concerts; £3/£2 for lectures
SUMMARY;LANGUAGE=en-gb:Concert 2: Film Music in the Flow of Time
LOCATION:St John's Garden Quadrangle Auditorium, St John's College, St Giles OX1 3JP
END:VEVENT
END:VCALENDAR
