BEGIN:VCALENDAR
VERSION:2.0
BEGIN:VEVENT
URL:https://www.dailyinfo.co.uk/events/293329/weekend-warriors-flip-phone-the-band
DTSTART;VALUE=DATE:20260502
DESCRIPTION:Weekend Warriors, Flip Phone the band\n\n\nCome for a night of innovative music from young local bands - support the youth music scene of Oxf. 19:30 £7-£10
SUMMARY;LANGUAGE=en-gb:Weekend Warriors, Flip Phone the band
LOCATION:The Nest, 33-35 Little Clarendon St, Oxford OX1 2HU
END:VEVENT
END:VCALENDAR
