BEGIN:VCALENDAR
VERSION:2.0
BEGIN:VEVENT
URL:https://www.dailyinfo.co.uk/events/293351/the-metamorphosis
DTSTART;VALUE=DATE:20260502
DESCRIPTION:The Metamorphosis\n\n\nPremiere of experimental film based on Kafka’s novella ‘The Metamorphosis’ and directed by Dr. Elena Ene Draghici-Vasilescu. Come for a cool in-person screening and dive into the mind-blowing transformation! 2.00pm £6.13
SUMMARY;LANGUAGE=en-gb:The Metamorphosis
LOCATION:Ultimate Picture Palace (UPP), Jeune St, Oxford OX4 1BN
END:VEVENT
END:VCALENDAR
