BEGIN:VCALENDAR
VERSION:2.0
BEGIN:VEVENT
URL:https://www.dailyinfo.co.uk/events/293724/zarbi-sulk-rooms-lee-switzer-woolf
DTSTART;VALUE=DATE:20260502
DESCRIPTION:Zarbi, Sulk Rooms, Lee Switzer-Woolf\n\n\nElectronica night from All Will Be Well Records 8.00pm £5
SUMMARY;LANGUAGE=en-gb:Zarbi, Sulk Rooms, Lee Switzer-Woolf
LOCATION:The Library Pub, 182 Cowley Road, Oxford OX4 1UE
END:VEVENT
END:VCALENDAR
