BEGIN:VCALENDAR
VERSION:2.0
BEGIN:VEVENT
URL:https://www.dailyinfo.co.uk/events/291538/stonegarden
DTSTART;VALUE=DATE:20260503
DESCRIPTION:Stonegarden\n\n\n90’s grunge tribute band 8.00pm £8
SUMMARY;LANGUAGE=en-gb:Stonegarden
LOCATION:The Bullingdon, 162 Cowley Road, Oxford OX4 1UE
END:VEVENT
END:VCALENDAR
