BEGIN:VCALENDAR
VERSION:2.0
BEGIN:VEVENT
URL:https://www.dailyinfo.co.uk/events/291677/the-music-of-many-rhythm-and-synchrony-in-animal-collectives
DTSTART;VALUE=DATE:20260503
DESCRIPTION:"The Music of Many: Rhythm and Synchrony in Animal Collectives"\n\n\nThis talk explores how rhythm and synchrony emerge from simple interactions between individuals 5.15 - 6.15pm £100/£85 for Full Festival Pass; £25/£20 for evening concerts; £15/£12 for daytime concerts; £3/£2 for lectures
SUMMARY;LANGUAGE=en-gb:"The Music of Many: Rhythm and Synchrony in Animal Collectives"
LOCATION:St John's Garden Quadrangle Auditorium, St John's College, St Giles OX1 3JP
END:VEVENT
END:VCALENDAR
