BEGIN:VCALENDAR
VERSION:2.0
BEGIN:VEVENT
URL:https://www.dailyinfo.co.uk/events/291681/concert-3-einstein-a-life-in-science-and-music
DTSTART;VALUE=DATE:20260503
DESCRIPTION:Concert 3: Einstein: A Life in Science and Music\n\n\nThis lecture-concert is the book launch for Einstein - A Life in Science and Music, published by Oxford University Press in February. The lecture outlines Einstein’s passion for music, illustrated by pieces he played and composers with whom he had a particular connection. 2 - 3.45pm £100/£85 for Full Festival Pass; £25/£20 for evening concerts; £15/£12 for daytime concerts; £3/£2 for lectures
SUMMARY;LANGUAGE=en-gb:Concert 3: Einstein: A Life in Science and Music
LOCATION:St John's Garden Quadrangle Auditorium, St John's College, St Giles OX1 3JP
END:VEVENT
END:VCALENDAR
