BEGIN:VCALENDAR
VERSION:2.0
BEGIN:VEVENT
URL:https://www.dailyinfo.co.uk/events/291682/concert-4-nicholas-daniel-and-friends
DTSTART;VALUE=DATE:20260503
DESCRIPTION:Concert 4: Nicholas Daniel and Friends\n\n\nNicholas Daniel is an old friend of the Festival and makes a welcome return, along with another old friend, the Mozart 'Gran Partita' arranged for oboe, strings and piano. The rest of his programme is an eclectic mix of contemporary pieces and those from the 20th century. 7.30 - 9.45pm £100/£85 for Full Festival Pass; £25/£20 for evening concerts; £15/£12 for daytime concerts; £3/£2 for lectures
SUMMARY;LANGUAGE=en-gb:Concert 4: Nicholas Daniel and Friends
LOCATION:St John's Garden Quadrangle Auditorium, St John's College, St Giles OX1 3JP
END:VEVENT
END:VCALENDAR
