BEGIN:VCALENDAR
VERSION:2.0
BEGIN:VEVENT
URL:https://www.dailyinfo.co.uk/events/289139/said-evening-prayer
DTSTART;VALUE=DATE:20260504
DESCRIPTION:Said Evening Prayer\n\n\nJoin us at Christ Church Cathedral for this said service of Evening Prayer. 6:05-6:35pm Free
SUMMARY;LANGUAGE=en-gb:Said Evening Prayer
LOCATION:Christ Church Cathedral, Christ Church, St Aldate's, Oxford OX1 1DP
END:VEVENT
END:VCALENDAR
